BEGIN:VCALENDAR
VERSION:2.0
METHOD:PUBLISH
PRODID:-//Accessible Web Design//My Calendar//http://www.joedolson.com//v2.5.17//EN
BEGIN:VEVENT
UID:123-57
LOCATION:     
SUMMARY:Filópolis III: La escritura constitucional de Ralph Waldo Emerson II
DTSTAMP:20180201T180000Z
ORGANIZER;CN=admin:MAILTO:desarrolloweb@combios.es
DTSTART:20180201T180000Z
DTEND:20180201T200000Z
URL;VALUE=URI:http://www.ateneovalencia.es/formacion/escuela-de-filosofia/filopolis-seminario-de-filosofia-politica/
DESCRIPTION:
CATEGORIES:General
END:VEVENT
BEGIN:VEVENT
UID:122-56
LOCATION:     
SUMMARY:Introduccion Filosofia: ¿Cómo muere un filósofo?
DTSTAMP:20180213T180000Z
ORGANIZER;CN=admin:MAILTO:desarrolloweb@combios.es
DTSTART:20180213T180000Z
DTEND:20180213T200000Z
URL;VALUE=URI:http://www.ateneovalencia.es/formacion/escuela-de-filosofia/introduccion-a-la-filosofia/
DESCRIPTION:
CATEGORIES:General
END:VEVENT
BEGIN:VEVENT
UID:124-58
LOCATION:     
SUMMARY:Filópolis III: Sobre la ética: Wittgenstein I
DTSTAMP:20180215T180000Z
ORGANIZER;CN=admin:MAILTO:desarrolloweb@combios.es
DTSTART:20180215T180000Z
DTEND:20180215T200000Z
URL;VALUE=URI:http://www.ateneovalencia.es/formacion/escuela-de-filosofia/filopolis-seminario-de-filosofia-politica/
DESCRIPTION:
CATEGORIES:General
END:VEVENT
BEGIN:VEVENT
UID:125-59
LOCATION:     
SUMMARY:Filópolis III: Sobre la ética: Wittgenstein II
DTSTAMP:20180301T180000Z
ORGANIZER;CN=admin:MAILTO:desarrolloweb@combios.es
DTSTART:20180301T180000Z
DTEND:20180301T200000Z
URL;VALUE=URI:http://www.ateneovalencia.es/formacion/escuela-de-filosofia/filopolis-seminario-de-filosofia-politica/
DESCRIPTION:
CATEGORIES:General
END:VEVENT
END:VCALENDAR